BEGIN:VCALENDAR
VERSION:2.0
PRODID:-//SALT - ECPv6.15.20//NONSGML v1.0//EN
CALSCALE:GREGORIAN
METHOD:PUBLISH
X-ORIGINAL-URL:https://www.salt.fo
X-WR-CALDESC:Events for SALT
REFRESH-INTERVAL;VALUE=DURATION:PT1H
X-Robots-Tag:noindex
X-PUBLISHED-TTL:PT1H
BEGIN:VTIMEZONE
TZID:Europe/London
BEGIN:DAYLIGHT
TZOFFSETFROM:+0000
TZOFFSETTO:+0100
TZNAME:BST
DTSTART:20190331T010000
END:DAYLIGHT
BEGIN:STANDARD
TZOFFSETFROM:+0100
TZOFFSETTO:+0000
TZNAME:GMT
DTSTART:20191027T010000
END:STANDARD
BEGIN:DAYLIGHT
TZOFFSETFROM:+0000
TZOFFSETTO:+0100
TZNAME:BST
DTSTART:20200329T010000
END:DAYLIGHT
BEGIN:STANDARD
TZOFFSETFROM:+0100
TZOFFSETTO:+0000
TZNAME:GMT
DTSTART:20201025T010000
END:STANDARD
BEGIN:DAYLIGHT
TZOFFSETFROM:+0000
TZOFFSETTO:+0100
TZNAME:BST
DTSTART:20210328T010000
END:DAYLIGHT
BEGIN:STANDARD
TZOFFSETFROM:+0100
TZOFFSETTO:+0000
TZNAME:GMT
DTSTART:20211031T010000
END:STANDARD
BEGIN:DAYLIGHT
TZOFFSETFROM:+0000
TZOFFSETTO:+0100
TZNAME:BST
DTSTART:20220327T010000
END:DAYLIGHT
BEGIN:STANDARD
TZOFFSETFROM:+0100
TZOFFSETTO:+0000
TZNAME:GMT
DTSTART:20221030T010000
END:STANDARD
END:VTIMEZONE
BEGIN:VEVENT
DTSTART;TZID=Europe/London:20210528T181500
DTEND;TZID=Europe/London:20210528T213000
DTSTAMP:20260421T122403
CREATED:20210527T145516Z
LAST-MODIFIED:20210527T145516Z
UID:10001978-1622225700-1622237400@www.salt.fo
SUMMARY:MS Thorshavn - Drinks umborð & ferðaætlan mentanarnáttina.
DESCRIPTION:Mentanarnáttina siglur Thorshavn av molanum á Havnalagnum til SALT. \nFráferðir: \n18:15\n18:45\n19:15\n19:45\n20:15\n20:45\n21:15 \nFólk kunnu keypa drinks umborð á Thorshavn\, barrvørar frá Essabarr í Havn.\nCafé SALT skipar fyri.
URL:https://www.salt.fo/event/ms-thorshavn-drinks-umbord-ferdaaetlan-mentanarnattina/
LOCATION:Havnarlagið á Tvøroyri\, Havnarlagið 11\, Tvøroyri\, 800\, Faroe Islands
CATEGORIES:Tiltak
ATTACH;FMTTYPE=image/png:https://www.salt.fo/wp-content/uploads/2021/05/thors.png
END:VEVENT
BEGIN:VEVENT
DTSTART;TZID=Europe/London:20200516T160000
DTEND;TZID=Europe/London:20200516T163000
DTSTAMP:20260421T122403
CREATED:20200512T134309Z
LAST-MODIFIED:20200513T100024Z
UID:10001794-1589644800-1589646600@www.salt.fo
SUMMARY:Hans Jacob Hjelm & Vinmenn á Havnarlagnum á Tvøroyri
DESCRIPTION:SALT skipar fyri rullandi palli\, har fólk fáa høvi at uppliva ókeypis tónleik og aðrar framførslur í sínum nærumhvørvi\, alt ímeðan vit fylgja tilmælunum frá myndugleikunum. \n  \nLeygardagin 16. mai kl. 16.00 steðgar bussurin á havnalagnum á Tvøroyri við Hans Jacobi Hjelm & Vinmonnum.
URL:https://www.salt.fo/event/drive-in-konsert-vid-hans-jacob-hjelm-vinmonnum/
LOCATION:Havnarlagið á Tvøroyri\, Havnarlagið 11\, Tvøroyri\, 800\, Faroe Islands
CATEGORIES:Tónleikur
ATTACH;FMTTYPE=image/jpeg:https://www.salt.fo/wp-content/uploads/2020/05/Heimasida-1-scaled.jpg
END:VEVENT
END:VCALENDAR