BEGIN:VCALENDAR
VERSION:2.0
PRODID:-//SALT - ECPv6.15.20//NONSGML v1.0//EN
CALSCALE:GREGORIAN
METHOD:PUBLISH
X-WR-CALNAME:SALT
X-ORIGINAL-URL:https://www.salt.fo/en/
X-WR-CALDESC:Events for SALT
REFRESH-INTERVAL;VALUE=DURATION:PT1H
X-Robots-Tag:noindex
X-PUBLISHED-TTL:PT1H
BEGIN:VTIMEZONE
TZID:Europe/London
BEGIN:DAYLIGHT
TZOFFSETFROM:+0000
TZOFFSETTO:+0100
TZNAME:BST
DTSTART:20160327T010000
END:DAYLIGHT
BEGIN:STANDARD
TZOFFSETFROM:+0100
TZOFFSETTO:+0000
TZNAME:GMT
DTSTART:20161030T010000
END:STANDARD
BEGIN:DAYLIGHT
TZOFFSETFROM:+0000
TZOFFSETTO:+0100
TZNAME:BST
DTSTART:20170326T010000
END:DAYLIGHT
BEGIN:STANDARD
TZOFFSETFROM:+0100
TZOFFSETTO:+0000
TZNAME:GMT
DTSTART:20171029T010000
END:STANDARD
BEGIN:DAYLIGHT
TZOFFSETFROM:+0000
TZOFFSETTO:+0100
TZNAME:BST
DTSTART:20180325T010000
END:DAYLIGHT
BEGIN:STANDARD
TZOFFSETFROM:+0100
TZOFFSETTO:+0000
TZNAME:GMT
DTSTART:20181028T010000
END:STANDARD
BEGIN:DAYLIGHT
TZOFFSETFROM:+0000
TZOFFSETTO:+0100
TZNAME:BST
DTSTART:20190331T010000
END:DAYLIGHT
BEGIN:STANDARD
TZOFFSETFROM:+0100
TZOFFSETTO:+0000
TZNAME:GMT
DTSTART:20191027T010000
END:STANDARD
BEGIN:DAYLIGHT
TZOFFSETFROM:+0000
TZOFFSETTO:+0100
TZNAME:BST
DTSTART:20200329T010000
END:DAYLIGHT
BEGIN:STANDARD
TZOFFSETFROM:+0100
TZOFFSETTO:+0000
TZNAME:GMT
DTSTART:20201025T010000
END:STANDARD
END:VTIMEZONE
BEGIN:VTIMEZONE
TZID:UTC
BEGIN:STANDARD
TZOFFSETFROM:+0000
TZOFFSETTO:+0000
TZNAME:UTC
DTSTART:20170101T000000
END:STANDARD
END:VTIMEZONE
BEGIN:VEVENT
DTSTART;TZID=Europe/London:20190608T190000
DTEND;TZID=Europe/London:20190608T203000
DTSTAMP:20260420T132908
CREATED:20190530T213015Z
LAST-MODIFIED:20190609T205704Z
UID:10001705-1560020400-1560025800@www.salt.fo
SUMMARY:Suðuroyarkabarettin #2 - 2019
DESCRIPTION:Aftur í ár sýnir Suðuroyar Sjónleikarafelag eina kabarett.\nSum kabarettum líkt verður mangt og hvat endavent.\nPolitikarar\, oyggjafólk og Strandferðslan og onnur standa fyri skotum. \nNorðingar verða heldur ikki spardir. \nLukku tí hava suðuroyingar harða húð og breiðan rygg og tola skemt. Skuldi onkur havt harðan rygg og breiða húð\, so gongur tað eisini. \nSuðuroyakabarettin er fyri øll\, sum tola skemt. \nJákup Veyhe er leikstjóri. \nAtgongumerkjasølan er:\ní Tangabúðini á Tvøroyri\ná Torginum í Vági\nog á www.atgongumerki.fo \n200\,-kr.
URL:https://www.salt.fo/en/event/suduroyarkabarettin-2-2019/
LOCATION:SALT\, Líðin 22\, Tvøroyri\, 800\, Faroe Islands
CATEGORIES:Theatre
ATTACH;FMTTYPE=image/png:https://www.salt.fo/wp-content/uploads/2019/05/ÚTSELT-Suðuroyar-kabarett.png
END:VEVENT
BEGIN:VEVENT
DTSTART;TZID=Europe/London:20190531T180000
DTEND;TZID=Europe/London:20190531T200000
DTSTAMP:20260420T132908
CREATED:20190529T152541Z
LAST-MODIFIED:20190529T220017Z
UID:10001701-1559325600-1559332800@www.salt.fo
SUMMARY:Culture night
DESCRIPTION:SALT\, will\, of course\, be open on culture night. \nFrom 6 pm to 8 pm\, one can visit and see the facitlities and experience the atmosphere. \nÁlvur Enni will be talking about the history of Salt. \nFrom 6:30 – 7:30\, the father and son duo “Holbæk & Holbæk” will be playing the Blues. \nThe salt silo is a historical building and is rich with character. \nM/B “Hvítiklettur” will be sailing from the pier\, where the bonfire will be\,on Tvøroyri’s side\, and back again every 30 mins. \n  \nWelcome!
URL:https://www.salt.fo/en/event/mentanarnatt/
LOCATION:SALT\, Líðin 22\, Tvøroyri\, 800\, Faroe Islands
CATEGORIES:Event,Tiltak
ATTACH;FMTTYPE=image/png:https://www.salt.fo/wp-content/uploads/2019/05/Suðuroyar-kabarett-1.png
END:VEVENT
BEGIN:VEVENT
DTSTART;TZID=Europe/London:20190528T080000
DTEND;TZID=Europe/London:20190528T170000
DTSTAMP:20260420T132908
CREATED:20190528T130026Z
LAST-MODIFIED:20190529T144740Z
UID:10001699-1559030400-1559062800@www.salt.fo
SUMMARY:Suðuroyarkabarettin 2019
DESCRIPTION:Aftur í ár sýnir Suðuroyar Sjónleikarafelag eina kabarett. \nSum kabarettum líkt verður mangt og hvat endavent. Politikarar\, oyggjafólk og Strandferðslan og onnur standa fyri skotum. \nNorðingar verða heldur ikki verða spardir. \nLukku tí hava suðuroyingar harða húð og breiðan rygg og tola skemt. Skuldi onkur havt harðan rygg og breiða húð\, so gongur tað eisini. \nSuðuroyakabarettin er fyri øll\, sum tola skemt. \n  \n:Leikstjóri – Jákup Veyhe \n  \nAtgongumerkjasølan er: \ní Tangabúðini á Tvøroyri \ná Torginum í Vági \ná www.atgongumerki.fo <<<(ÚSELT)
URL:https://www.salt.fo/en/event/suduroyarkabarettin-2019/
LOCATION:SALT\, Líðin 22\, Tvøroyri\, 800\, Faroe Islands
CATEGORIES:Sjónleikur
ATTACH;FMTTYPE=image/png:https://www.salt.fo/wp-content/uploads/2019/05/Suðuroyar-kabarett.png
END:VEVENT
BEGIN:VEVENT
DTSTART;TZID=Europe/London:20190525T190000
DTEND;TZID=Europe/London:20190525T210000
DTSTAMP:20260420T132908
CREATED:20190416T134058Z
LAST-MODIFIED:20190416T134415Z
UID:10001692-1558810800-1558818000@www.salt.fo
SUMMARY:Heiðurskonsert fyri Elvis Presley
DESCRIPTION:Lisberg looks to resurrect rock ‘n’ roll spirit of Elvis \n  \nJohn Lennon once famously said: ”before Elvis\, there was nothing”. \nThat was then. \nAnno 2019 – more than 40 years after his death – Elvis Presley\, The King of Rock ‘n’ Roll\, is still a major influence in modern music and he’s still very much in the hearts of the childen of the world – including the Faroese ones. \nOn May 25 Faroese Elvis fans will be treated to a night of nostalgia when Jens Lisberg and his band as well as his daughter Kristel Lisberg\, who participated at the 2016 Danish Eurovision Song Contest\,  take to the stage in ”Salt” to perform Elvis-songs and pay tribute to the late rock ‘n’ roll pioneer. \nThis will be the third and latest Elvis-nostalgia concert in the Faroe Islands this winter following highly acclaimed and sold out concerts in “Norðurlandahúsið” in Tórshavn\,  Fuglafjørður (Mentanarhúsið) and Tórshavn (Reinsaríið). \nJens Lisberg\, who is a well known singer in the Faroe Islands\, states to Local.fo that Elvis Presley has always been been a great source of inspiration for his music and that he has always dreamt of hosting an Elvis-nostalgia concert. \n– Our wish is that this concert will be a good opportunity to remember the music culture that Elvis left behind. At the same time\, this will also be a good opportunity for curious listeners to open the door to the king of rock and roll\, says Lisberg\, who has previously interpreted Jim Reeves songs. \nJens Liberg’s band will line up as follows:\nJens Lisberg\, singer\nElspa Samuelsen\, choir singer\nMalan Hansen\, choir singer\nTorbjørn Lisberg\, keys\nSámal Lindenskov\, guitar\nÓlavur Øster\, guitar\nHeini Fosaa\, drums\nJóhan Martin Jacobsen\, bass guitar \n 
URL:https://www.salt.fo/en/event/heidurskonsert-fyri-elvis-presley/
LOCATION:SALT\, Líðin 22\, Tvøroyri\, 800\, Faroe Islands
CATEGORIES:Concert
ATTACH;FMTTYPE=image/png:https://www.salt.fo/wp-content/uploads/2019/04/Evils-logo.png
END:VEVENT
BEGIN:VEVENT
DTSTART;TZID=Europe/London:20190517T170000
DTEND;TZID=Europe/London:20190517T183000
DTSTAMP:20260420T132908
CREATED:20190514T092747Z
LAST-MODIFIED:20190514T094810Z
UID:10001696-1558112400-1558117800@www.salt.fo
SUMMARY:Siloakórið
DESCRIPTION:The Siloa choir has about 30 members\, conducted by Eyðun á Lakjuni. \nThis will be an evening with a mixture of Faroese and English songs\, mostly newer og lighter songs and gospel. \nEveryone os most welcome!
URL:https://www.salt.fo/en/event/1012/
LOCATION:SALT\, Líðin 22\, Tvøroyri\, 800\, Faroe Islands
CATEGORIES:Concert
ATTACH;FMTTYPE=image/png:https://www.salt.fo/wp-content/uploads/2019/05/Siloakórið-1.png
END:VEVENT
BEGIN:VEVENT
DTSTART;TZID=Europe/London:20190511T100000
DTEND;TZID=Europe/London:20190511T170000
DTSTAMP:20260420T132908
CREATED:20190507T115919Z
LAST-MODIFIED:20190507T133107Z
UID:10001694-1557568800-1557594000@www.salt.fo
SUMMARY:Politiskur fólkafundur
DESCRIPTION:Fyrireikarnir: Politisku vælfeløgini í Suðuroynni skipa fyri stórum\, spennandi fólkafundi leygardagin 11. mai. \nTiltakið er ókeypis og byrjar kl 10 og endar kl 17 \n  \n\nAllir flokkanir luttaka\nSuðuroyggin og útjaðarin í fokus\nPallborðsfundur\nSpeakers Corner\nUngdómspanel\nKaffi & Smyrjibreð\nBeinleiðis stroyming\nTónleikur.\n\n  \nLeiðandi politikarar úr øllum flokkum taka lut\, eins og umboið fyri politisku ungmannafeløgini er við. \nHugsjónin við fólkafundinum er at fáa politikaran í eygnahædd við borgaran\, soleiðis at veljari og makthavari møtast á jøvnum støði. \nAktuel og viðkomandi evni verða viðgjørd – høvi verður at seta spurningar og hitta politikararnar. \nFyrireikararnir leggja doyðin á ein livandi og virknan sosialan og poltiskan dag\, við framløgum\, atkvøðugreiðslum\, speekers corner\, øðrvísi innsløgum\, har flokkartnir seta hvør øðrum spurningum. Fundurin endar við einum formanspallborði. \nĀ middegi verður smyrjibreyð og kaffisteðgur er kl 15. \nHúsið er opið allan dagin. \nJón Brian Vidtfeldt verður orðstýrari \nPartar av fundinum verða stroymaðir. (nærri kunning\, um stroyming\, kemur seinni um hvar og hvussu)
URL:https://www.salt.fo/en/event/politiskur-folkafundur/
LOCATION:SALT\, Líðin 22\, Tvøroyri\, 800\, Faroe Islands
CATEGORIES:Event,Food,Music
ATTACH;FMTTYPE=image/png:https://www.salt.fo/wp-content/uploads/2019/05/Politiskur-Fólkafundur-2.png
END:VEVENT
BEGIN:VEVENT
DTSTART;TZID=Europe/London:20190504T100000
DTEND;TZID=Europe/London:20190504T170000
DTSTAMP:20260420T132908
CREATED:20190401T154205Z
LAST-MODIFIED:20190416T143323Z
UID:10001688-1556964000-1556989200@www.salt.fo
SUMMARY:Alzheimer ráðstevna
DESCRIPTION:Atgongumerki fáast á: \nwww.atgongumerki.fo \nTangabúðin á Tvøroyri \nTorgið í Vági \n200\,-kr. \n  \nSkrá \nkl. 10.00: Skráseting og drekka \nKl. 10.30: Ólavur Rasmussen bjóðar vælkomin \nKl. 10.45: Umboð fyri Alzheimerfelagið greiðir frá felagnum og endamáli felagsins \nKl. 11.15: Tróndur Enni og Lív Næs framføra 2 løg \nKl. 11.30: Ein upptøka frá 2017 til Alzheimerráðstevnuna\, har familjan hjá Biritu Mohr og Birita siga frá síni søgu. \nKl. 12.00 – 13.00: Steðgur og ábit. \nKl. 13.00: ”Sangfuglarnir”  framføra nakrar sangir. Kórið er samansett av fólki við demenssjúkum\, avvarðandi og øðrum áhugaðum \nFelagssangur\, Blóman hjá Poul F \nKl. 13.30: Pál Weihe sigur frá síni søgu sum avvarðandi \nKl. 14.00: Anna Vilhelmssen\, neuropsykologur:  Góða tilverðan\, hóast demenssjúku \nKl. 14.30: Drekkamunnur \nKl. 15.00: Monologur: Gundur Johansen framførur ”Amazing Grace” \nKl. 15.30: Bú- og Heimatænastan: Daimy Kjærbo\, Birita Johansen og Ann Thomsen greiða frá \n demensarbeiðinum  í Suðuroy. \nKl. 16.15: Marjun Restorff: Týdningurin av útgreinan fyri demens og viðgerð \nSALT og Alzheimerfelagið  takka fyri dagin \nFelagssangur. Sóljugentan \n  \n  \n  \n  \n 
URL:https://www.salt.fo/en/event/alzheimer-radstevna/
LOCATION:SALT\, Líðin 22\, Tvøroyri\, 800\, Faroe Islands
CATEGORIES:Event
ATTACH;FMTTYPE=image/png:https://www.salt.fo/wp-content/uploads/2019/04/LSH-Logo-1.png
END:VEVENT
BEGIN:VEVENT
DTSTART;TZID=Europe/London:20190427T150000
DTEND;TZID=Europe/London:20190427T160000
DTSTAMP:20260420T132908
CREATED:20190401T153732Z
LAST-MODIFIED:20190405T101007Z
UID:10001686-1556377200-1556380800@www.salt.fo
SUMMARY:Barnaprix 2019
DESCRIPTION:Barnaprix 2019 starts at SALT \nKid’s song contest \n  \nRULES: \nBarnaprix 2019 \nYou choose your own song\, but it has to be appropriate. \nThe hosts decide whether the song is acceptable. The hosts will supply the chosen song. \nIf it isn’t possible to supply the song\, the contestant will have to choose another song. The song can be of own composition. (it will then have to be approved by the hosts/judges) \nComposed songs must be handed in digitally and sent to : info@barnaprix.org \nUp to 3 people can be on stage at the same time i.e contestant\, dancers or backup singers. \nThe contestants must be from the ages 8 to 13. \n(all the above is also valid at the final) \n  \nTo sign up: go to – barnaprix.org \n 
URL:https://www.salt.fo/en/event/barnaprix-2019/
LOCATION:SALT\, Líðin 22\, Tvøroyri\, 800\, Faroe Islands
CATEGORIES:Event,Tónleikur
ATTACH;FMTTYPE=image/jpeg:https://www.salt.fo/wp-content/uploads/2019/04/Barnaprix-salt.fo-1600x1600.jpg
END:VEVENT
BEGIN:VEVENT
DTSTART;TZID=Europe/London:20190406T160000
DTEND;TZID=Europe/London:20190406T173000
DTSTAMP:20260420T132908
CREATED:20190401T103752Z
LAST-MODIFIED:20190401T135854Z
UID:10001685-1554566400-1554571800@www.salt.fo
SUMMARY:Concert - Russian romance
DESCRIPTION:  \nWe will be having two visitors from  London Symphony Orchestra (LSO) in the Faroe Islands\, and they are playing in SALT \nThe musicians are: \nChris Richards\, solo clarinette player in LSO and professor at the Royal Academy of Music. \nJoost Bosdijk\, who also performs daily at LSO\, and is likewise a professor at the Royal College of Music. \nJóhannes Andreasen\, pianist. \nThey will perform works by the Russian composer Mikhail Glinka (1804-1857) and by Johannes Brahms (1833-1897) plus the piece\,Askur og Embla by Faroese composer Kári Bæk. \nThis is a clarinette\, fagott\, piano trio which has been nominated a music award at Norðurlanaráðsins a few years ago.
URL:https://www.salt.fo/en/event/konsert-russisk-romantikk-og-annad/
LOCATION:SALT\, Líðin 22\, Tvøroyri\, 800\, Faroe Islands
CATEGORIES:Concert,mentan,Tónleikur
ATTACH;FMTTYPE=image/jpeg:https://www.salt.fo/wp-content/uploads/2019/04/Russisk-romantik.jpg
END:VEVENT
BEGIN:VEVENT
DTSTART;TZID=Europe/London:20190323T190000
DTEND;TZID=Europe/London:20190323T220000
DTSTAMP:20260420T132908
CREATED:20190320T172710Z
LAST-MODIFIED:20190320T212950Z
UID:10001683-1553367600-1553378400@www.salt.fo
SUMMARY:Gangspil
DESCRIPTION:Gangspil will guarantee you an entertaining and variated journey through the traditions of Danish folk music. \nThese lively musicians performs old dance tunes and songs from every corner of their Scandinavian home country. \nFrom rural islands like Læsø to the metropol Copenhagen\, including a few of their own compositions. \nExpect everything from wild polkas and jigs to lyrical waltzes\, fiery reels and happy hopsas\, plus the exotic “Sønderhoning” dance tunes from the famous Island of Fanø\, and long forgotten songs from all over the country. \nAn unforgettable live experience spiced up with humor and stories from their many years on the road. They perform and have performed with some of the most exciting and well-know musicians from the Danish and Nordic folk scene. \n  \nTickets sales are at the door.
URL:https://www.salt.fo/en/event/gangspil/
CATEGORIES:Concert,Event
ATTACH;FMTTYPE=image/jpeg:https://www.salt.fo/wp-content/uploads/2019/03/Profil.jpg
END:VEVENT
BEGIN:VEVENT
DTSTART;TZID=Europe/London:20190217T150000
DTEND;TZID=Europe/London:20190317T160000
DTSTAMP:20260420T132908
CREATED:20190115T155031Z
LAST-MODIFIED:20190322T113019Z
UID:10001674-1550415600-1552838400@www.salt.fo
SUMMARY:Den Yderste Ø
DESCRIPTION:Yggdrasil v/ Anniku Johannessen framføra verkið “Den Yderste Ø”\, sum byggir á yrkingar hjá Williami Heinesen.\nDen Yderste Ø er fyrsta verk skrivað til tónleika- og listabólkin Yggdrasil. Hetta var í 1981.\nYrkingarnar eru síðsti partur “Thi Natten kommer” úr savninum “Panorama med Regnbue” hjá Williami Heinesen. Hesar níggju yrkingarnar eru samstundis Williams seinastu.\nWilliam var við til at forma tónleikaverkið\, og heitið á tónleikaverkinum valdi hann at vera “Den Yderste Ø”\, sum er heitið á fjórðu yrkingina.\nYrkingin “Thi Natten kommer” endar hansara virki sum yrkjari\, og eisini tónleikaverkið.\nDen Yderste Ø hevur\, síðani verkið bleiv til\, verið framført bæði í Føroyum og uttanlands. Tíðum við Anniku Johannessen\, sjónleikara\, sum upplesara.\nLisið verður á donskum. \n  \nLuttakarnar eru:\nAnnika Johannessen (sjónleikari)\, Kamilla Ravnsfjall (floytu)\, Daniel Rye (klarinett)\, Heðin Ziska Davidsen (gittar)\, Kristian Blak (klaver)\, Mikael Blak (bass) \n 
URL:https://www.salt.fo/en/event/den-yderste-o/
LOCATION:SALT\, Líðin 22\, Tvøroyri\, 800\, Faroe Islands
CATEGORIES:Concert,Event,mentan
ATTACH;FMTTYPE=image/jpeg:https://www.salt.fo/wp-content/uploads/2019/01/Annika-Johannessen-Portræt.jpg
END:VEVENT
BEGIN:VEVENT
DTSTART;TZID=Europe/London:20180915T200000
DTEND;TZID=Europe/London:20180915T220000
DTSTAMP:20260420T132908
CREATED:20180712T212543Z
LAST-MODIFIED:20180912T123507Z
UID:10001648-1537041600-1537048800@www.salt.fo
SUMMARY:Magni Christiansen
DESCRIPTION:Faroese Country at its best \nMagni Christiansen is a faroese gospel-country singer. He has released 5 albums\, one of which was recorded in the Country capital of the world\, Nashville USA. \nMagni Christiansen and his band will be performing at SALT on september 15 at 8 pm. He will be performing several of his well known songs\, as well as new material from his upcoming album. \nThe concert is free of charge.
URL:https://www.salt.fo/en/event/magni-christiansen/
LOCATION:SALT\, Líðin 22\, Tvøroyri\, 800\, Faroe Islands
CATEGORIES:Concert,Event
ATTACH;FMTTYPE=image/png:https://www.salt.fo/wp-content/uploads/2018/07/Magni-C.png
END:VEVENT
BEGIN:VEVENT
DTSTART;TZID=UTC:20180901T190000
DTEND;TZID=UTC:20180901T220000
DTSTAMP:20260420T132908
CREATED:20180610T181249Z
LAST-MODIFIED:20180712T230703Z
UID:10001646-1535828400-1535839200@www.salt.fo
SUMMARY:Johnny Cash Tribute concert with Asyllex
DESCRIPTION:Johnny Cash does not need an introduction. He has produced countless hits\, and has been on radios all over the world for decades. Now\, he will be interpreted by our very own Asyllex. A local band\, which recently won the “listener Award” at the annual Faroese Music Awards. Asyllex is a thrash metal band. They released an album last year and are currently working on material for a new release. \nThis concoction of talented metal musicians versus songs by Johnny Cash\, is something that surely should be interesting and worth a visit. \nThe members of Asyllex are Hans Hammer (guitar and vocals)\, Luka Radosavljevic (guitar)\, Andreas Jacobsen (guitar)\, Finnur Nielsen (bass) and Bogi Petersen (drums) \n 
URL:https://www.salt.fo/en/event/asyllex/
LOCATION:SALT\, Líðin 22\, Tvøroyri\, 800\, Faroe Islands
CATEGORIES:Concert
ATTACH;FMTTYPE=image/png:https://www.salt.fo/wp-content/uploads/2018/06/Asyllex-Cash.png
END:VEVENT
BEGIN:VEVENT
DTSTART;TZID=UTC:20180824T190000
DTEND;TZID=UTC:20180824T200000
DTSTAMP:20260420T132908
CREATED:20180610T180529Z
LAST-MODIFIED:20180712T224207Z
UID:10001643-1535137200-1535140800@www.salt.fo
SUMMARY:Lutz Gerlach and Ulrike Mai
DESCRIPTION:Lutz Gerlach (piano) Ulrike Mai (piano) \nClassical piano music. The event is a part of the annual “Summartónar”. \nTickets are sold at the venue.
URL:https://www.salt.fo/en/event/lutz-gerlach-and-ulrike-mai/
LOCATION:SALT\, Líðin 22\, Tvøroyri\, 800\, Faroe Islands
CATEGORIES:Concert
ATTACH;FMTTYPE=image/jpeg:https://www.salt.fo/wp-content/uploads/2018/06/pian.jpg
END:VEVENT
BEGIN:VEVENT
DTSTART;TZID=UTC:20180817T200000
DTEND;TZID=UTC:20180817T210000
DTSTAMP:20260420T132908
CREATED:20180610T180055Z
LAST-MODIFIED:20180614T190543Z
UID:10001642-1534536000-1534539600@www.salt.fo
SUMMARY:Dopplers Vocal Performance Ensemble
DESCRIPTION:Is an a cappella group from Copenhagen\, Denmark.
URL:https://www.salt.fo/en/event/dopplers-vocal-performance-ensemble/
LOCATION:SALT\, Líðin 22\, Tvøroyri\, 800\, Faroe Islands
CATEGORIES:Concert
ATTACH;FMTTYPE=image/jpeg:https://www.salt.fo/wp-content/uploads/2018/06/COP-release.jpg
END:VEVENT
BEGIN:VEVENT
DTSTART;TZID=UTC:20180810T190000
DTEND;TZID=UTC:20180810T210000
DTSTAMP:20260420T132908
CREATED:20180610T174900Z
LAST-MODIFIED:20180711T125939Z
UID:10001640-1533927600-1533934800@www.salt.fo
SUMMARY:Nikol Bóková - Piano
DESCRIPTION:Nikol Bókova is a young virtuos from The Czech Republic. \nMusic by Franck\, Blak\, í Sandagerði
URL:https://www.salt.fo/en/event/nikol-bokova-piano/
LOCATION:SALT\, Líðin 22\, Tvøroyri\, 800\, Faroe Islands
CATEGORIES:Concert
ATTACH;FMTTYPE=image/jpeg:https://www.salt.fo/wp-content/uploads/2018/06/maxresdefault.jpg
END:VEVENT
BEGIN:VEVENT
DTSTART;TZID=UTC:20180720T190000
DTEND;TZID=UTC:20180720T200000
DTSTAMP:20260420T132908
CREATED:20180610T174149Z
LAST-MODIFIED:20180616T101121Z
UID:10001639-1532113200-1532116800@www.salt.fo
SUMMARY:Yggdrasil - Lipet Ei
DESCRIPTION:It is not often one gets to hear samples and syntheses of musics of those residing immediately below the North Pole\, especially at many different longitudes. Yggdrasil (named for the Norse tree of life) allows us that opportunity\, drawing on the soundscapes and mythologies of the “circum-Arctic” region\, specifically the Faroe Islands\, Siberia\, northwestern Canada\, and the Aleutian Islands.\nThe cinematic compositions and arrangements of Faroese multi-instrumentalist Kristian Blak and Russian singer Vera Kondrateva temper the older traditional materials with clarity and sublime sensitivity. \nThe member of the band are: Vera Kondrateva (vocals and percussion)\, Heðin Ziska Davidsen (guitar)\, Kristian Blak (piano)\, Mikael Blak (bass) \nTickets are sold at the venue. \n 
URL:https://www.salt.fo/en/event/yggdrasil-lipet-ei/
LOCATION:SALT\, Líðin 22\, Tvøroyri\, 800\, Faroe Islands
CATEGORIES:Concert
ATTACH;FMTTYPE=image/jpeg:https://www.salt.fo/wp-content/uploads/2018/06/ygg.jpg
END:VEVENT
BEGIN:VEVENT
DTSTART;TZID=Europe/London:20180720T170000
DTEND;TZID=Europe/London:20180720T210000
DTSTAMP:20260420T132908
CREATED:20180717T153646Z
LAST-MODIFIED:20180718T164008Z
UID:10001650-1532106000-1532120400@www.salt.fo
SUMMARY:Culture night - 2018
DESCRIPTION:The event starts by MS Thorshavn sails across the fjord at 4:45 pm. \nÓlavur Rasmussen\, director of SALT\, will greet the guests and gives a tour of the building at 5 pm. \nVisitors are welcome to dine at our restaurant\, from 5 pm to 7 pm and enjoy today’s menu while taking in the breathtaking scenery of Trongisvágs fjord. \nFrom 7 pm Yggdrasil will be playing their music from Summartónar 2018. entré 50\,-kr. \n  \n \nMS Thórshavn departs at 4:45 pm from the quay on Tvøroyri and sails over to SALT\, and leaves again at 6:00 pm \n  \n \nMenu at SALT this evening : 100\,-kr. (5 pm – 7 pm) \n \n3 types of bruschettas. \nSpeared marinated and grilled tiger prawns with pineapple \nSalmon platter with salad and dill dressing w/bread \nChicken soup w/bread \nGreek salad \n \nKids menu : 50\,-kr. \nMeatball spears w/vegetables \nPasta Bolognese \n  \nGet an exclusive tour with SALT’s director; Ólavur Rasmussen  from 5:00 pm to 5:30 pm \n  \n  \n \nYggdrasil will be playing at 7 pm – 8 pm. (50\,-kr.)
URL:https://www.salt.fo/en/event/culture-night-2018/
LOCATION:SALT\, Líðin 22\, Tvøroyri\, 800\, Faroe Islands
CATEGORIES:Concert,Culture,Food
ATTACH;FMTTYPE=image/jpeg:https://www.salt.fo/wp-content/uploads/2018/07/MENT-2.jpg
END:VEVENT
BEGIN:VEVENT
DTSTART;TZID=UTC:20180713T190000
DTEND;TZID=UTC:20180713T200000
DTSTAMP:20260420T132908
CREATED:20180610T173133Z
LAST-MODIFIED:20180616T101636Z
UID:10001637-1531508400-1531512000@www.salt.fo
SUMMARY:Aldubáran
DESCRIPTION:In 1995 seven young Faroese musicians formed an ensemble with the main purpose to perform and promote Faroese music. This ensemble is Aldubáran. \nEvery year\, Aldubáran is featured at Summartónar\, the annual festival of contemporary and classical music in the Faroe Islands. The ensemble and individual members have released CDs and recorded for radio and television at home as well as abroad. \nAlbeit Faroese music plays a major part in their programmes the masterpieces of the music literature are equally important. \n  \nThis particular concert consists of Øssur Bæk\, violin\, Páll Sólstein\, horn and Jóannes Andreasen\, piano\, \nperforming music by Brahms and Shen. \nTickets are sold at the venue.
URL:https://www.salt.fo/en/event/aldubaran/
LOCATION:SALT\, Líðin 22\, Tvøroyri\, 800\, Faroe Islands
CATEGORIES:Concert
ATTACH;FMTTYPE=image/jpeg:https://www.salt.fo/wp-content/uploads/2018/06/DSC03435.jpg
END:VEVENT
BEGIN:VEVENT
DTSTART;TZID=UTC:20180629T190000
DTEND;TZID=UTC:20180629T200000
DTSTAMP:20260420T132908
CREATED:20180610T170926Z
LAST-MODIFIED:20180628T104542Z
UID:10001635-1530298800-1530302400@www.salt.fo
SUMMARY:Spælimenninir "The Faroese Folk Musicians"
DESCRIPTION:Spælimenninir\, which loosely translates to “The Folk Musicians” play traditional and contemporary folk music. \nThe frontman of “Spælimenninir” is Kristian Blak\, who is accompanied by several (10-15) other Faroese musicians. \nTickets are sold at the venue. \n 
URL:https://www.salt.fo/en/event/spaelimenninir/
LOCATION:SALT\, Líðin 22\, Tvøroyri\, 800\, Faroe Islands
CATEGORIES:Concert
ATTACH;FMTTYPE=image/png:https://www.salt.fo/wp-content/uploads/2018/06/kristian-blak-web.png
END:VEVENT
BEGIN:VEVENT
DTSTART;TZID=UTC:20180623T183000
DTEND;TZID=UTC:20180623T203000
DTSTAMP:20260420T132908
CREATED:20180507T203103Z
LAST-MODIFIED:20180622T133331Z
UID:10001629-1529778600-1529785800@www.salt.fo
SUMMARY:The Savage Rose - Annisette
DESCRIPTION:Dear guests! \nThe bus leaves Smyril at 18:00 (6 pm) to the venue\, and departs SALT at 20:30 (8.30 pm)\nThe bus doesn’t accept credit card\, so please bring cash. the price is 90\,- DKK. \n  \nIf you sum up the past 50 years of danish rockhistory\, The Savage Rose is without a doubt at the very top of the pyramid. (Informatión) \nAnnisette and the rest of The Savage Rose were ahead of their time 40 years ago. They still are. (Jyllandsposten) \nA magasin reviewer refered to The Savage Rose’s unique style of music as the “Blues of Life”. Their album “Love and Freedom” which was released in 2012\, was honored as their best album ever. \nThe members of The Savage Rose are as follows: Annisette (vocals)\, Palle Hjort (piano\, organ and accordion)\, Jacob Haubjerg (bass)\, Anders Holm (drums)\, Rune Kjeldsen (guitar)\, Naja Koppel and Amina Carsce Nissen (backing vocals). \nTickets available at Atgongumerki.fo\, Tangabúðin in Tvøroyi and at Torgið in Vági
URL:https://www.salt.fo/en/event/the-savage-rose-annisette/
LOCATION:SALT\, Líðin 22\, Tvøroyri\, 800\, Faroe Islands
CATEGORIES:Concert
ATTACH;FMTTYPE=image/jpeg:https://www.salt.fo/wp-content/uploads/2018/05/Annisette.jpeg
END:VEVENT
BEGIN:VEVENT
DTSTART;TZID=UTC:20180622T190000
DTEND;TZID=UTC:20180622T200000
DTSTAMP:20260420T132908
CREATED:20180610T165141Z
LAST-MODIFIED:20180614T183742Z
UID:10001632-1529694000-1529697600@www.salt.fo
SUMMARY:Ensemble Boquhan
DESCRIPTION:Ensemble Boquhan was formed in 2016 in Boquhan\, Scotland. The trio is seeking to present conserts of the highest integrity whilst crossing boundaries in an acdemically viable fashion. \n  \nMembers of the group are as follows: Fiona Mancey-Jones (flute)\, Valerie Pearson (violin)\, Joseph Houston (piano) \nMusic by Blak\, Shostakovich and Rota \nTickets are sold at the venue.
URL:https://www.salt.fo/en/event/ensemble-boquhan-trio/
LOCATION:SALT\, Líðin 22\, Tvøroyri\, 800\, Faroe Islands
CATEGORIES:Concert,Event
ATTACH;FMTTYPE=image/jpeg:https://www.salt.fo/wp-content/uploads/2018/06/609662.jpg
END:VEVENT
BEGIN:VEVENT
DTSTART;TZID=Europe/London:20180620T200000
DTEND;TZID=Europe/London:20180620T210000
DTSTAMP:20260420T132908
CREATED:20180509T201619Z
LAST-MODIFIED:20180614T174505Z
UID:10001631-1529524800-1529528400@www.salt.fo
SUMMARY:Heiðrik "Funeral"
DESCRIPTION:  \nThe talented Heiðrik is showcasing his newest release at SALT with his Faroese/Icelandic band. Reviewers have given the album release great praise both abroad and locally. \nThe album is about Heiðrik’s past as a young LGBT follower in the Faroes. \nAlso attending the album is the acapella group “KATA”. \nMusicians are: Heðin Ziska Davidsen (guitar)\, Halldór Sveinsson (Piano)\, Per Højgaard Petersen (drums) and Bergur Fonsdal Johannesen (bass). The producer of the album is Janus Rasmussen also known from BYRTA. \n 
URL:https://www.salt.fo/en/event/heidrik-funeral/
LOCATION:SALT\, Líðin 22\, Tvøroyri\, 800\, Faroe Islands
CATEGORIES:Concert
ATTACH;FMTTYPE=image/jpeg:https://www.salt.fo/wp-content/uploads/2018/05/heiðrik.jpg
END:VEVENT
BEGIN:VEVENT
DTSTART;TZID=Europe/London:20170806T200000
DTEND;TZID=Europe/London:20170806T220000
DTSTAMP:20260420T132908
CREATED:20190708T084550Z
LAST-MODIFIED:20190708T084550Z
UID:10001714-1502049600-1502056800@www.salt.fo
SUMMARY:Kristina Bærendsen + band
DESCRIPTION:
URL:https://www.salt.fo/en/event/kristina-baerendsen-band/
LOCATION:SALT\, Líðin 22\, Tvøroyri\, 800\, Faroe Islands
CATEGORIES:Concert
ATTACH;FMTTYPE=image/jpeg:https://www.salt.fo/wp-content/uploads/2019/07/487feb6bcc19adeaff25fe1f9b96ca7f.jpg
END:VEVENT
END:VCALENDAR