BEGIN:VCALENDAR
VERSION:2.0
PRODID:-//SALT - ECPv6.15.20//NONSGML v1.0//EN
CALSCALE:GREGORIAN
METHOD:PUBLISH
X-ORIGINAL-URL:https://www.salt.fo/en/
X-WR-CALDESC:Events for SALT
REFRESH-INTERVAL;VALUE=DURATION:PT1H
X-Robots-Tag:noindex
X-PUBLISHED-TTL:PT1H
BEGIN:VTIMEZONE
TZID:Europe/London
BEGIN:DAYLIGHT
TZOFFSETFROM:+0000
TZOFFSETTO:+0100
TZNAME:BST
DTSTART:20250330T010000
END:DAYLIGHT
BEGIN:STANDARD
TZOFFSETFROM:+0100
TZOFFSETTO:+0000
TZNAME:GMT
DTSTART:20251026T010000
END:STANDARD
BEGIN:DAYLIGHT
TZOFFSETFROM:+0000
TZOFFSETTO:+0100
TZNAME:BST
DTSTART:20260329T010000
END:DAYLIGHT
BEGIN:STANDARD
TZOFFSETFROM:+0100
TZOFFSETTO:+0000
TZNAME:GMT
DTSTART:20261025T010000
END:STANDARD
BEGIN:DAYLIGHT
TZOFFSETFROM:+0000
TZOFFSETTO:+0100
TZNAME:BST
DTSTART:20270328T010000
END:DAYLIGHT
BEGIN:STANDARD
TZOFFSETFROM:+0100
TZOFFSETTO:+0000
TZNAME:GMT
DTSTART:20271031T010000
END:STANDARD
END:VTIMEZONE
BEGIN:VEVENT
DTSTART;TZID=Europe/London:20260425T200000
DTEND;TZID=Europe/London:20260425T220000
DTSTAMP:20260421T095819
CREATED:20260121T150529Z
LAST-MODIFIED:20260318T150131Z
UID:10003391-1777147200-1777154400@www.salt.fo
SUMMARY:Carsten Knudsen - Ein "Nattergal" kemur suður
DESCRIPTION:A “Nattergal” is coming to Suðuroy on April 25\, 2026 \nHe is the man who played Gertrud Sand and Günther in The Julekalender. \nOn the program are songs both from his own back catalog\, from his time with De Nattergale\, and well-known songs from The Julekalender. \nThe evening offers both poetic\, cheeky\, and meaningful content—with a mischievous smile—monologues\, songs\, and instrumental performances. \nHe is an entertainer\, musician\, and composer. \nWith the ukulele as a solo instrument\, he has performed at the Sibelius Museum in Finland\, at the Blue Mountain Ukulele Festival in Australia\, in Norway\, Sweden—yes\, even in Tokyo. \nHis more well-known side is recognized by many as a humorous comedian and musician. This evening he will use his entire palette. \nThe singing will be in West Jutlandic dialect\, standard Danish\, English\, and “Denglish.” \nOn stage is Carsten Knudsen\, and together with him are a ukulele from Hawaii\, guitars\, didgeridoo\, harmonium (pump organ)\, jaw harp\, and other instruments. \nCarsten has wrinkles on his forehead—because his brain is curly.
URL:https://www.salt.fo/en/event/carsten-knudsen-ein-nattergal-kemur-sudur/
CATEGORIES:Comedy,Concert
ATTACH;FMTTYPE=image/jpeg:https://www.salt.fo/wp-content/uploads/2026/01/SALT-Crstn.jpg
END:VEVENT
BEGIN:VEVENT
DTSTART;TZID=Europe/London:20260430T190000
DTEND;TZID=Europe/London:20260430T200000
DTSTAMP:20260421T095819
CREATED:20260408T112205Z
LAST-MODIFIED:20260408T112500Z
UID:10003414-1777575600-1777579200@www.salt.fo
SUMMARY:Aksel Remmel and Félix Nunes - Piano and cello
DESCRIPTION:Concert with Aksel Remmel and Félix Nunes – Piano and cello \nExciting\, varied\, and beautiful music for cello and piano. \nFaroese pianist Aksel Remmel and Canadian cellist Félix Nunes present an intimate and engaging concert for cello and piano. \nThe programme brings together expressive and accessible works\, perfect for both newcomers and experienced listeners.\nMusic by Dmitri Shostakovich and Robert Schumann offers a mix of drama\, warmth\, and lyrical beauty\, while Sergei Rachmaninoff’s beloved Vocalise stands out with its unforgettable\, song-like melody. \nThe concert concludes with music from “Four Cities” by Fazıl Say\, inspired by Turkish cities and with clear influences from both folk traditions and jazz. \nTogether\, the programme offers a varied and inviting musical experience — emotional\, vivid\, and easy to connect with. \nLength: ca. 50 min
URL:https://www.salt.fo/en/event/aksel-remmel-og-felix-nunes-klaver-og-sello/
CATEGORIES:Concert,Ókeypis
ATTACH;FMTTYPE=image/png:https://www.salt.fo/wp-content/uploads/2026/04/akslrmmlflxnnz.png
END:VEVENT
BEGIN:VEVENT
DTSTART;TZID=Europe/London:20260516T210000
DTEND;TZID=Europe/London:20260516T233000
DTSTAMP:20260421T095819
CREATED:20260219T133617Z
LAST-MODIFIED:20260408T113406Z
UID:10003416-1778965200-1778974200@www.salt.fo
SUMMARY:Hamferð og Tunghoyrt
DESCRIPTION:Doors open at 20:00\nThe event starts at 21:00 \nHamferð has\, for nearly two decades\, held a unique role in Faroese music. Built around a core of doom metal – slow\, heavy\, and somber – a genre that originally emerged with bands like Black Sabbath and Candlemass\, Hamferð’s music has steadily evolved into something difficult to categorize or compare. \nTheir sound is intense\, heavy\, and dark\, reflecting the shadows of Faroese nature and history; longing\, loss\, and grief. This is where Hamferð belongs\, and from the stage they extend an invitation to the audience to embrace these challenging emotions. \nLine-up:\nJÓN ALDARÁ – VOCALS\nESMAR JOENSEN – KEYBOARDS\nJENUS Í TRØÐINI – BASS\nEYÐUN HVANNASTEIN – GUITAR\nREMI KOFOED JOHANNESEN – DRUMS\nTHEODOR KAPNAS – GUITAR \nTunghoyrt is a band that plays heavy music. The group consists of four 19-year-old musicians who play music inspired by 90s rock. \nThe name Tunghoyrt comes from the word meaning “hard of hearing” or almost deaf. \nDespite playing heavy music\, their songs are rooted in deep emotions\, with themes such as love\, anger\, and wildness. Their songs are melodic and dynamic\, and their performances are intense and right in your face. \nLine-up:\nBJARNI JAKOBSEN – DRUMS\nERIK REYNHEIM – BASS\nHELGE GREVE – GUITAR\nJÓNI STRØM – VOCALS
URL:https://www.salt.fo/en/event/hamferd-og-tunghoyrt/
LOCATION:SALT\, Líðin 22\, Tvøroyri\, 800\, Faroe Islands
CATEGORIES:Concert
ATTACH;FMTTYPE=image/jpeg:https://www.salt.fo/wp-content/uploads/2026/02/hmfrdTNGHRT.jpg
END:VEVENT
BEGIN:VEVENT
DTSTART;TZID=Europe/London:20260531T150000
DTEND;TZID=Europe/London:20260531T160000
DTSTAMP:20260421T095819
CREATED:20260318T145314Z
LAST-MODIFIED:20260318T145723Z
UID:10003405-1780239600-1780243200@www.salt.fo
SUMMARY:Poulsen Brothers & Óskar Guðjónsson - “Sál”
DESCRIPTION:In connection with the release of the album “Sál\,” the renowned Icelandic saxophonist Óskar Guðjónsson (AdHd\, Mezzoforte) is coming to the Faroe Islands to perform release concerts together with the Poulsen Brothers. \nThe brothers Bárður and Pauli were born to a girls’ choir conductor and an acoustic guitar virtuoso—and grew up in a world filled with instruments and music. \nBoth have\, in their own ways\, traveled abroad to study music—Pauli in the USA and Germany\, Bárður in Norway—and now finally live again in the same postal code. \nJoining them is the exceptional drummer Rógvi á Rógvu\, whom we know from bands such as Plúmm and Terji and Føstufressar. \n“Sál” was recorded at Sjónleikarhúsið in Tórshavn on August 6\, 2024.\nThe music is instrumental\, and the 9 tracks carry a Nordic jazz feel with elements of 90s New York post-bop.\n“Sál” will be released by Tutl\, and it will be possible to purchase the album at the concert. \nMusicians:\nÓskar Guðjónsson\, saxophone\nPauli Reinert Poulsen\, guitar\nBárður Reinert Poulsen\, double bass\nRógvi á Rógvu\, drums \nConcert schedule:\n29.5 Mentanarhúsið\n30.5 Hentsarsa Pakkhús (trio)\, Sandavágur\n30.5 Reinsaríið\n31.5 SALT \nThe release has been supported by:\nMentanargrunnur Landsins\, Tórshavnar Kommuna\, Gramex Tónleikarar\, KODA Føroyar\, SMS\, Betri Banki\, and Føroya Banki \n**Tickets can be purchased at the door**
URL:https://www.salt.fo/en/event/poulsen-brothers-oskar-gudjonsson-sal/
CATEGORIES:Release concert
ATTACH;FMTTYPE=image/png:https://www.salt.fo/wp-content/uploads/2026/03/pbrthrs.png
END:VEVENT
BEGIN:VEVENT
DTSTART;TZID=Europe/London:20260626T210000
DTEND;TZID=Europe/London:20260626T220000
DTSTAMP:20260421T095819
CREATED:20260409T144631Z
LAST-MODIFIED:20260409T144907Z
UID:10003418-1782507600-1782511200@www.salt.fo
SUMMARY:Froðbiar Sóknar Bluesorkestur
DESCRIPTION:Dennis Lave (drums)\, Dávið Jacobsen (bass)\, Óli Holbæk Mortensen (guitar)\, and Kristian Holbæk (vocals/harmonica). \nFroðbiar Sóknar Bluesorkestur played their first notes in the summer of 2007 at the royal pub in Tvøroyri.\nTheir repertoire ranges from old delta blues and boogie to modern blues-rock and funk.
URL:https://www.salt.fo/en/event/frodbiar-soknar-bluesorkestur-2/
CATEGORIES:Concert,Summartónar
ATTACH;FMTTYPE=image/png:https://www.salt.fo/wp-content/uploads/2026/04/fsbo26.png
END:VEVENT
END:VCALENDAR